BEGIN:VCALENDAR
VERSION:2.0
PRODID:-//Plone.org//NONSGML plone.app.event//EN
X-WR-TIMEZONE:Europe/Berlin
BEGIN:VEVENT
SUMMARY:EMF – Bewertung\, Schutz und Vermarktung von Hochschul-Know-how 
 – Onlineveranstaltung
DTSTART;TZID=Europe/Berlin:20220503T090000
DTEND;TZID=Europe/Berlin:20220503T130000
DTSTAMP:20260420T115731Z
UID:b340e11f6eda4c8cb3c9b0ef02e2ef38@www.uni-marburg.de
ATTENDEE;CN="Dr. Thomas Widmann";ROLE=REQ-PARTICIPANT:Dr. Thomas Widmann
ATTENDEE;CN=www.transmit.de;ROLE=REQ-PARTICIPANT:www.transmit.de
CREATED:20181203T210138Z
DESCRIPTION:https://www.uni-marburg.de/de/mara/aktuelles-mara/events/2022/
 postdocprogramm/emf-hochschulknowhow_2022\nIn dieser Veranstaltung erhalte
 n Sie nicht nur wichtige Informationen zu verschiedenen Aspekten unterschi
 edlicher Arten von Schutzrechten\, sondern auch über deren Einfluss auf I
 hre eigene Forschung und Arbeit sowie über Möglichkeiten zur Vermeidung 
 von Schutzrechteverletzungen.
LAST-MODIFIED:20220419T125608Z
LOCATION:Online
URL:https://www.uni-marburg.de/de/mara/aktuelles-mara/events/2022/postdocp
 rogramm/emf-hochschulknowhow_2022
END:VEVENT
BEGIN:VTIMEZONE
TZID:Europe/Berlin
X-LIC-LOCATION:Europe/Berlin
BEGIN:DAYLIGHT
DTSTART:20220327T030000
TZNAME:CEST
TZOFFSETFROM:+0100
TZOFFSETTO:+0200
END:DAYLIGHT
END:VTIMEZONE
END:VCALENDAR
