BEGIN:VCALENDAR
VERSION:2.0
PRODID:-//Plone.org//NONSGML plone.app.event//EN
X-WR-TIMEZONE:Europe/Berlin
BEGIN:VEVENT
SUMMARY:EMF –  Informational Event for the Certificate Program "Designin
 g and Managing Research Projects" (EMF)
DTSTART;TZID=Europe/Berlin:20221109T100000
DTEND;TZID=Europe/Berlin:20221109T110000
DTSTAMP:20260421T015301Z
UID:466812fb2651472090f95d8af80885f7@www.uni-marburg.de
ATTENDEE;CN="Dr. Christine Berger";ROLE=REQ-PARTICIPANT:Dr. Christine Berg
 er
ATTENDEE;CN=;ROLE=REQ-PARTICIPANT:
CREATED:20181203T210138Z
DESCRIPTION:https://www.uni-marburg.de/de/mara/aktuelles-mara/events/2022/
 postdocprogramm/emf-infoevent\nDr. Christine Berger\, coordinator of the p
 rogram\, explains the objectives and the process of the certificate progra
 m "Designing and Managing Research Projects" (EMF) and presents its module
 s project development and project application\, project management\, prese
 ntation of research projects and transfer.
LAST-MODIFIED:20221018T105101Z
LOCATION:Online in BBB
URL:https://www.uni-marburg.de/de/mara/aktuelles-mara/events/2022/postdocp
 rogramm/emf-infoevent
END:VEVENT
BEGIN:VTIMEZONE
TZID:Europe/Berlin
X-LIC-LOCATION:Europe/Berlin
BEGIN:STANDARD
DTSTART:20221030T020000
TZNAME:CET
TZOFFSETFROM:+0200
TZOFFSETTO:+0100
END:STANDARD
END:VTIMEZONE
END:VCALENDAR
