BEGIN:VCALENDAR
VERSION:2.0
PRODID:-//Plone.org//NONSGML plone.app.event//EN
X-WR-TIMEZONE:Europe/Berlin
BEGIN:VEVENT
SUMMARY:EMF –  Informationsveranstaltung zum Programm „Entwicklung und
  Management von Forschungsprojekten“
DTSTART;TZID=Europe/Berlin:20221101T150000
DTEND;TZID=Europe/Berlin:20221101T160000
DTSTAMP:20260420T225122Z
UID:c2dee38d1e5740c395f3d6d615ae7005@www.uni-marburg.de
ATTENDEE;CN="Dr. Christine Berger";ROLE=REQ-PARTICIPANT:Dr. Christine Berg
 er
ATTENDEE;CN=;ROLE=REQ-PARTICIPANT:
CREATED:20181203T210138Z
DESCRIPTION:https://www.uni-marburg.de/de/mara/aktuelles-mara/events/2022/
 postdocprogramm/emf-informationsveranstaltung\nDr. Christine Berger\, die 
 Koordinatorin des Programms\, erläutert die Ziele sowie den Ablauf des Ze
 rtifikatprogramms „Entwicklung und Management von Forschungsprojekten" (
 EMF) und stellt dessen Module Projektentwicklung und Projektbeantragung\, 
 Projektmanagement\, Präsentation von Forschungsprojekten und Transfer vor
 .
LAST-MODIFIED:20221018T104820Z
LOCATION:Online in BBB
URL:https://www.uni-marburg.de/de/mara/aktuelles-mara/events/2022/postdocp
 rogramm/emf-informationsveranstaltung
END:VEVENT
BEGIN:VTIMEZONE
TZID:Europe/Berlin
X-LIC-LOCATION:Europe/Berlin
BEGIN:STANDARD
DTSTART:20221030T020000
TZNAME:CET
TZOFFSETFROM:+0200
TZOFFSETTO:+0100
END:STANDARD
END:VTIMEZONE
END:VCALENDAR
