BEGIN:VCALENDAR
VERSION:2.0
PRODID:-//Plone.org//NONSGML plone.app.event//EN
X-WR-TIMEZONE:Europe/Berlin
BEGIN:VEVENT
SUMMARY:EMF – Intellectual Property Rights  in Science and Research
DTSTART;TZID=Europe/Berlin:20221029T090000
DTEND;TZID=Europe/Berlin:20221029T163000
DTSTAMP:20260420T224934Z
UID:c9d04db8210a45598717ef8dad3b78e7@www.uni-marburg.de
ATTENDEE;CN="Darius Rostam";ROLE=REQ-PARTICIPANT:Darius Rostam
ATTENDEE;CN=www.law-school.de/profil/darius-rostam;ROLE=REQ-PARTICIPANT:ww
 w.law-school.de/profil/darius-rostam
CREATED:20181203T210138Z
DESCRIPTION:https://www.uni-marburg.de/de/mara/aktuelles-mara/events/2022/
 postdocprogramm/emf-intellectual_property_rights\nThis workshop will give 
 you an understanding of intellectual property law and shows you how to con
 trol your own academic work.
LAST-MODIFIED:20220915T071751Z
LOCATION:Online
URL:https://www.uni-marburg.de/de/mara/aktuelles-mara/events/2022/postdocp
 rogramm/emf-intellectual_property_rights
END:VEVENT
BEGIN:VTIMEZONE
TZID:Europe/Berlin
X-LIC-LOCATION:Europe/Berlin
BEGIN:DAYLIGHT
DTSTART:20220327T030000
TZNAME:CEST
TZOFFSETFROM:+0100
TZOFFSETTO:+0200
END:DAYLIGHT
END:VTIMEZONE
END:VCALENDAR
