BEGIN:VCALENDAR
VERSION:2.0
PRODID:-//Plone.org//NONSGML plone.app.event//EN
X-WR-TIMEZONE:Europe/Berlin
BEGIN:VEVENT
SUMMARY:EMF – Management of Third-Party-Funded Research Projects – Onl
 ine Event
DTSTART;TZID=Europe/Berlin:20220621T090000
DTEND;TZID=Europe/Berlin:20220621T153000
DTSTAMP:20260421T090939Z
UID:ea6db4ecf5bf448bbb14ad2279c5ed6e@www.uni-marburg.de
RRULE:FREQ=DAILY;COUNT=2;INTERVAL=2
RDATE;TZID=Europe/Berlin:20220622T090000
EXDATE;TZID=Europe/Berlin:20220623T090000
ATTENDEE;CN="Dr. Alexander Schiller";ROLE=REQ-PARTICIPANT:Dr. Alexander Sc
 hiller
ATTENDEE;CN=www.schillermertens.de;ROLE=REQ-PARTICIPANT:www.schillermerten
 s.de
CREATED:20181203T210138Z
DESCRIPTION:https://www.uni-marburg.de/de/mara/aktuelles-mara/events/2022/
 postdocprogramm/emf-management-2022\nThis two-day event aims to provide yo
 u with an opportunity to build your understanding\, skills and confidence 
 in management of third-party-funded projects.
LAST-MODIFIED:20220527T160755Z
LOCATION:Online
URL:https://www.uni-marburg.de/de/mara/aktuelles-mara/events/2022/postdocp
 rogramm/emf-management-2022
END:VEVENT
BEGIN:VTIMEZONE
TZID:Europe/Berlin
X-LIC-LOCATION:Europe/Berlin
BEGIN:DAYLIGHT
DTSTART:20220327T030000
TZNAME:CEST
TZOFFSETFROM:+0100
TZOFFSETTO:+0200
END:DAYLIGHT
END:VTIMEZONE
END:VCALENDAR
