BEGIN:VCALENDAR
VERSION:2.0
PRODID:-//Plone.org//NONSGML plone.app.event//EN
X-WR-TIMEZONE:Europe/Berlin
BEGIN:VEVENT
SUMMARY:EMF – Negotiating and Arguing – Online Event
DTSTART;TZID=Europe/Berlin:20220125T100000
DTEND;TZID=Europe/Berlin:20220125T173000
DTSTAMP:20260420T115552Z
UID:bcd3b4ca482b49c193f9199148180f7f@www.uni-marburg.de
RRULE:FREQ=DAILY;COUNT=2
EXDATE;TZID=Europe/Berlin:20220127T100000,20220128T100000,20220129T100000,
 20220130T100000,20220131T100000,20220201T100000,20220202T100000,20220203T1
 00000
ATTENDEE;CN="Cornelius Filipski";ROLE=REQ-PARTICIPANT:Cornelius Filipski
ATTENDEE;CN=www.antwort-n.de;ROLE=REQ-PARTICIPANT:www.antwort-n.de
ATTENDEE;CN=;ROLE=REQ-PARTICIPANT:
CREATED:20181203T210138Z
DESCRIPTION:https://www.uni-marburg.de/de/mara/aktuelles-mara/events/2022/
 postdocprogramm/emf-negotiating-2022\nIn this event you will learn the tec
 hniques needed and the principles relevant for negotiating and arguing eff
 iciently and constructively.
LAST-MODIFIED:20211207T084040Z
LOCATION:Online
URL:https://www.uni-marburg.de/de/mara/aktuelles-mara/events/2022/postdocp
 rogramm/emf-negotiating-2022
END:VEVENT
BEGIN:VTIMEZONE
TZID:Europe/Berlin
X-LIC-LOCATION:Europe/Berlin
BEGIN:STANDARD
DTSTART:20211031T020000
TZNAME:CET
TZOFFSETFROM:+0200
TZOFFSETTO:+0100
END:STANDARD
END:VTIMEZONE
END:VCALENDAR
