BEGIN:VCALENDAR
VERSION:2.0
PRODID:-//Plone.org//NONSGML plone.app.event//EN
X-WR-TIMEZONE:Europe/Berlin
BEGIN:VEVENT
SUMMARY:EMF – Presentation of Third-Party-Funded Projects and Research R
 esults
DTSTART;TZID=Europe/Berlin:20221220T090000
DTEND;TZID=Europe/Berlin:20221220T170000
DTSTAMP:20260420T163438Z
UID:7a694737acba4c7887697d1b67da39ef@www.uni-marburg.de
ATTENDEE;CN="Dr. Margarete Hubrath";ROLE=REQ-PARTICIPANT:Dr. Margarete Hub
 rath
ATTENDEE;CN=www.unisupport.de;ROLE=REQ-PARTICIPANT:www.unisupport.de
CREATED:20180606T112752Z
DESCRIPTION:https://www.uni-marburg.de/de/mara/aktuelles-mara/events/2022/
 postdocprogramm/emf-presentation\nIn this course you will learn how to use
  and improve your presentation skills.
LAST-MODIFIED:20221122T125154Z
LOCATION:Online in BBB
URL:https://www.uni-marburg.de/de/mara/aktuelles-mara/events/2022/postdocp
 rogramm/emf-presentation
END:VEVENT
BEGIN:VTIMEZONE
TZID:Europe/Berlin
X-LIC-LOCATION:Europe/Berlin
BEGIN:STANDARD
DTSTART:20221030T020000
TZNAME:CET
TZOFFSETFROM:+0200
TZOFFSETTO:+0100
END:STANDARD
END:VTIMEZONE
END:VCALENDAR
