BEGIN:VCALENDAR
VERSION:2.0
PRODID:-//Plone.org//NONSGML plone.app.event//EN
X-WR-TIMEZONE:Europe/Berlin
BEGIN:VEVENT
SUMMARY:EMF – Leadership and Staff Supervision – Online Event
DTSTART;TZID=Europe/Berlin:20220530T090000
DTEND;TZID=Europe/Berlin:20220530T163000
DTSTAMP:20260421T190422Z
UID:422526148b6e477d85dd37f11a431136@www.uni-marburg.de
RRULE:FREQ=DAILY;COUNT=2;INTERVAL=2
RDATE;TZID=Europe/Berlin:20220531T090000
EXDATE;TZID=Europe/Berlin:20220601T090000,20220602T090000,20220603T090000,
 20220604T090000,20220605T090000,20220606T090000,20220607T090000,20220608T0
 90000
ATTENDEE;CN="Dr. Alexander Egeling";ROLE=REQ-PARTICIPANT:Dr. Alexander Ege
 ling
ATTENDEE;CN=www.alexander-egeling.de;ROLE=REQ-PARTICIPANT:www.alexander-eg
 eling.de
ATTENDEE;CN=;ROLE=REQ-PARTICIPANT:
CREATED:20181203T210138Z
DESCRIPTION:https://www.uni-marburg.de/de/mara/aktuelles-mara/events/2022/
 postdocprogramm/emf-supervision-2022\nIn this event you will find your ind
 ividual way of leading people.
LAST-MODIFIED:20211207T091118Z
LOCATION:Online
URL:https://www.uni-marburg.de/de/mara/aktuelles-mara/events/2022/postdocp
 rogramm/emf-supervision-2022
END:VEVENT
BEGIN:VTIMEZONE
TZID:Europe/Berlin
X-LIC-LOCATION:Europe/Berlin
BEGIN:DAYLIGHT
DTSTART:20220327T030000
TZNAME:CEST
TZOFFSETFROM:+0100
TZOFFSETTO:+0200
END:DAYLIGHT
END:VTIMEZONE
END:VCALENDAR
