BEGIN:VCALENDAR
VERSION:2.0
PRODID:-//Plone.org//NONSGML plone.app.event//EN
X-WR-TIMEZONE:Europe/Berlin
BEGIN:VEVENT
SUMMARY:EMF – Visualizing Science Projects
DTSTART;TZID=Europe/Berlin:20220916T090000
DTEND;TZID=Europe/Berlin:20220916T170000
DTSTAMP:20260421T030718Z
UID:66f006830cf84e53bdd5f2eb486f75e3@www.uni-marburg.de
ATTENDEE;CN="Elisabeth Werner";ROLE=REQ-PARTICIPANT:Elisabeth Werner
ATTENDEE;CN=www.punktweiss.de;ROLE=REQ-PARTICIPANT:www.punktweiss.de
ATTENDEE;CN=;ROLE=REQ-PARTICIPANT:
CREATED:20181203T210138Z
DESCRIPTION:https://www.uni-marburg.de/de/mara/aktuelles-mara/events/2022/
 postdocprogramm/emf-visualizing-2022\nIn the workshop “Visualizing Scien
 ce Projects\,” you will learn to visualize your research project concise
 ly and appealingly.
LAST-MODIFIED:20220906T112850Z
LOCATION:Online
URL:https://www.uni-marburg.de/de/mara/aktuelles-mara/events/2022/postdocp
 rogramm/emf-visualizing-2022
END:VEVENT
BEGIN:VTIMEZONE
TZID:Europe/Berlin
X-LIC-LOCATION:Europe/Berlin
BEGIN:DAYLIGHT
DTSTART:20220327T030000
TZNAME:CEST
TZOFFSETFROM:+0100
TZOFFSETTO:+0200
END:DAYLIGHT
END:VTIMEZONE
END:VCALENDAR
