BEGIN:VCALENDAR
VERSION:2.0
PRODID:-//Plone.org//NONSGML plone.app.event//EN
X-WR-TIMEZONE:Europe/Berlin
BEGIN:VEVENT
SUMMARY:Jobinterviewtraining für Postdocs – Onlineveranstaltung
DTSTART;TZID=Europe/Berlin:20220701T090000
DTEND;TZID=Europe/Berlin:20220701T163000
DTSTAMP:20260420T103502Z
UID:20f90e5547804583bd60917cb9ec2ba4@www.uni-marburg.de
ATTENDEE;CN="Prof. Dr. Daniel Wrede";ROLE=REQ-PARTICIPANT:Prof. Dr. Daniel
  Wrede
ATTENDEE;CN=www.danielwre.de;ROLE=REQ-PARTICIPANT:www.danielwre.de
CREATED:20181203T210138Z
DESCRIPTION:https://www.uni-marburg.de/de/mara/aktuelles-mara/events/2022/
 postdocprogramm/jobinterviewtraining-postdocs_2022\nIn dieser eintägigen 
 Onlineveranstaltung trainieren Sie Ihr sicheres Auftreten im Bewerbungsges
 präch für die Karriere außerhalb der Universität nach einer mehrjähri
 gen Postdoctätigkeit.
LAST-MODIFIED:20220609T142945Z
LOCATION:Online
URL:https://www.uni-marburg.de/de/mara/aktuelles-mara/events/2022/postdocp
 rogramm/jobinterviewtraining-postdocs_2022
END:VEVENT
BEGIN:VTIMEZONE
TZID:Europe/Berlin
X-LIC-LOCATION:Europe/Berlin
BEGIN:DAYLIGHT
DTSTART:20220327T030000
TZNAME:CEST
TZOFFSETFROM:+0100
TZOFFSETTO:+0200
END:DAYLIGHT
END:VTIMEZONE
END:VCALENDAR
