BEGIN:VCALENDAR
VERSION:2.0
PRODID:-//Plone.org//NONSGML plone.app.event//EN
X-WR-TIMEZONE:Europe/Berlin
BEGIN:VEVENT
SUMMARY:Karriereentwicklung für Postdocs – Aufbau und Management der er
 sten eigenen Professur – Präsenzveranstaltung
DTSTART;TZID=Europe/Berlin:20220603T090000
DTEND;TZID=Europe/Berlin:20220603T170000
DTSTAMP:20260421T032237Z
UID:1bf1caabda614b99afac16e322928f67@www.uni-marburg.de
ATTENDEE;CN="Prof. Dr. Uta Bronner";ROLE=REQ-PARTICIPANT:Prof. Dr. Uta Bro
 nner
ATTENDEE;CN=www.impulsplus.com;ROLE=REQ-PARTICIPANT:www.impulsplus.com
CREATED:20181203T210138Z
DESCRIPTION:https://www.uni-marburg.de/de/mara/aktuelles-mara/events/2022/
 postdocprogramm/karriereentwicklung_eigene-professur_2022\nSie beginnen Ih
 re neue Position als Professor/-in? Dann lernen Sie\, wie Sie bereits die 
 Startphase optimal nutzen\, um die Erwartungen\, die an Sie gestellt werde
 n\, zu identifizieren und passend zu "bedienen"\, tragfähige Strukturen a
 uf- und auszubauen und Basisregeln sowie Tools zur Steuerung Ihres neuen L
 eitungsbereichs zu implementieren.
LAST-MODIFIED:20220317T124115Z
LOCATION:Philipps Universität Marburg\, Forschungszentrum Deutscher Sprac
 hatlas\, Pilgrimstein 16\, 35037 Marburg\, Vortragsraum 001
URL:https://www.uni-marburg.de/de/mara/aktuelles-mara/events/2022/postdocp
 rogramm/karriereentwicklung_eigene-professur_2022
END:VEVENT
BEGIN:VTIMEZONE
TZID:Europe/Berlin
X-LIC-LOCATION:Europe/Berlin
BEGIN:DAYLIGHT
DTSTART:20220327T030000
TZNAME:CEST
TZOFFSETFROM:+0100
TZOFFSETTO:+0200
END:DAYLIGHT
END:VTIMEZONE
END:VCALENDAR
