BEGIN:VCALENDAR
VERSION:2.0
PRODID:-//Plone.org//NONSGML plone.app.event//EN
X-WR-TIMEZONE:Europe/Berlin
BEGIN:VEVENT
SUMMARY:Auf LinkedIn & ResearchGate sichtbar sein!
DTSTART;TZID=Europe/Berlin:20221105T090000
DTEND;TZID=Europe/Berlin:20221105T153000
DTSTAMP:20260420T224515Z
UID:4dbf64539bc140e6b35dbf7ee5ceffb6@www.uni-marburg.de
ATTENDEE;CN="Katja Wolter";ROLE=REQ-PARTICIPANT:Katja Wolter
ATTENDEE;CN=www.steinbeis-inre.de;ROLE=REQ-PARTICIPANT:www.steinbeis-inre.
 de
CREATED:20220610T145600Z
DESCRIPTION:https://www.uni-marburg.de/de/mara/aktuelles-mara/events/2022/
 postdocprogramm/linkedin_researchgate\nPräsentieren Sie sich auf LinkedIn
  und ResearchGate als Wissenschaftler*in und profitieren Sie von den Mögl
 ichkeiten dieser beruflichen Netzwerke.
LAST-MODIFIED:20220627T085033Z
LOCATION:Online
URL:https://www.uni-marburg.de/de/mara/aktuelles-mara/events/2022/postdocp
 rogramm/linkedin_researchgate
END:VEVENT
BEGIN:VTIMEZONE
TZID:Europe/Berlin
X-LIC-LOCATION:Europe/Berlin
BEGIN:STANDARD
DTSTART:20221030T020000
TZNAME:CET
TZOFFSETFROM:+0200
TZOFFSETTO:+0100
END:STANDARD
END:VTIMEZONE
END:VCALENDAR
