BEGIN:VCALENDAR
VERSION:2.0
PRODID:-//Plone.org//NONSGML plone.app.event//EN
X-WR-TIMEZONE:Europe/Berlin
BEGIN:VEVENT
SUMMARY:EMF – Applying for MSCA Postdoctoral Fellowships – Event in Pr
 esence
DTSTART;TZID=Europe/Berlin:20220725T130000
DTEND;TZID=Europe/Berlin:20220725T153000
DTSTAMP:20260421T030948Z
UID:cce3c4591b0c48f39bf54033ca20d7a4@www.uni-marburg.de
ATTENDEE;CN="Dr. Corinna Felsch";ROLE=REQ-PARTICIPANT:Dr. Corinna Felsch
ATTENDEE;CN="(EU Liaison Officer of Philipps-Universität Marburg)";ROLE=R
 EQ-PARTICIPANT:(EU Liaison Officer of Philipps-Universität Marburg)
ATTENDEE;CN="Johanna Toivonen de Gonzales";ROLE=REQ-PARTICIPANT:Johanna To
 ivonen de Gonzales
ATTENDEE;CN="(Research funding unit, University of Turku)";ROLE=REQ-PARTIC
 IPANT:(Research funding unit, University of Turku)
CREATED:20181203T210138Z
DESCRIPTION:https://www.uni-marburg.de/de/mara/aktuelles-mara/events/2022/
 postdocprogramm/msca-2022\nDuring this event you will receive information 
 about the Marie Skłodowska-Curie Actions (MSCA) Postdoctoral Fellowships\
 , which provide postdoctoral researchers with complementary professional s
 kills for their future careers through the implementation of a personalise
 d research project.
LAST-MODIFIED:20220607T112947Z
LOCATION:Philipps-Universität Marburg\, MARA\, F|05\, Deutschhausstraße 
 11+13\, Seminar room 01.0010
URL:https://www.uni-marburg.de/de/mara/aktuelles-mara/events/2022/postdocp
 rogramm/msca-2022
END:VEVENT
BEGIN:VTIMEZONE
TZID:Europe/Berlin
X-LIC-LOCATION:Europe/Berlin
BEGIN:DAYLIGHT
DTSTART:20220327T030000
TZNAME:CEST
TZOFFSETFROM:+0100
TZOFFSETTO:+0200
END:DAYLIGHT
END:VTIMEZONE
END:VCALENDAR
