BEGIN:VCALENDAR
VERSION:2.0
PRODID:-//Plone.org//NONSGML plone.app.event//EN
X-WR-TIMEZONE:Europe/Berlin
BEGIN:VEVENT
SUMMARY:Science Communication – Presenting Science: How to Get Your Mess
 age Through – Event in Presence
DTSTART;TZID=Europe/Berlin:20220715T090000
DTEND;TZID=Europe/Berlin:20220715T153000
DTSTAMP:20260420T115610Z
UID:0c8dfe91b145491487a4479828dcc7d8@www.uni-marburg.de
ATTENDEE;CN="Dr. Jens Kube";ROLE=REQ-PARTICIPANT:Dr. Jens Kube
ATTENDEE;CN=www.awkjk.de;ROLE=REQ-PARTICIPANT:www.awkjk.de
CREATED:20180606T112752Z
DESCRIPTION:https://www.uni-marburg.de/de/mara/aktuelles-mara/events/2022/
 postdocprogramm/science-communication-2022\nIn this event you will train h
 ow to communicate your science to an audience outside your community.
LAST-MODIFIED:20220728T104451Z
LOCATION:W01 | Wilhelm-Röpke-Straße 4\, old university library\, Kanada-
 Saal
URL:https://www.uni-marburg.de/de/mara/aktuelles-mara/events/2022/postdocp
 rogramm/science-communication-2022
END:VEVENT
BEGIN:VTIMEZONE
TZID:Europe/Berlin
X-LIC-LOCATION:Europe/Berlin
BEGIN:DAYLIGHT
DTSTART:20220327T030000
TZNAME:CEST
TZOFFSETFROM:+0100
TZOFFSETTO:+0200
END:DAYLIGHT
END:VTIMEZONE
END:VCALENDAR
