BEGIN:VCALENDAR
VERSION:2.0
PRODID:-//Plone.org//NONSGML plone.app.event//EN
X-WR-TIMEZONE:Europe/Berlin
BEGIN:VEVENT
SUMMARY:Social Media für die Wissenschaftskommunikation – Wie ich (mein
 e) Forschung präsentieren kann – Onlineveranstaltung
DTSTART;TZID=Europe/Berlin:20220804T090000
DTEND;TZID=Europe/Berlin:20220804T130000
DTSTAMP:20260420T165150Z
UID:42c3a442b74a49a696c7b50214d1dc2c@www.uni-marburg.de
RRULE:FREQ=DAILY;COUNT=2
ATTENDEE;CN="Marc Scheloske";ROLE=REQ-PARTICIPANT:Marc Scheloske
ATTENDEE;CN=www.wissenswerkstatt.net;ROLE=REQ-PARTICIPANT:www.wissenswerks
 tatt.net
CREATED:20220527T132757Z
DESCRIPTION:https://www.uni-marburg.de/de/mara/aktuelles-mara/events/2022/
 postdocprogramm/social-media_2022\nLernen Sie\, soziale Medien ganz geziel
 t für Ihre eigene Wissenschaftskommunikation zu nutzen und komplexe wisse
 nschaftliche Themen verständlich aufzubereiten.
LAST-MODIFIED:20220728T115940Z
LOCATION:Online in BigBlueButton
URL:https://www.uni-marburg.de/de/mara/aktuelles-mara/events/2022/postdocp
 rogramm/social-media_2022
END:VEVENT
BEGIN:VTIMEZONE
TZID:Europe/Berlin
X-LIC-LOCATION:Europe/Berlin
BEGIN:DAYLIGHT
DTSTART:20220327T030000
TZNAME:CEST
TZOFFSETFROM:+0100
TZOFFSETTO:+0200
END:DAYLIGHT
END:VTIMEZONE
END:VCALENDAR
