BEGIN:VCALENDAR
VERSION:2.0
PRODID:-//Plone.org//NONSGML plone.app.event//EN
X-WR-TIMEZONE:Europe/Berlin
BEGIN:VEVENT
SUMMARY:Karriereentwicklung für Postdocs – Strategische Karriereplanung
 : Workshop und Einzelcoachings – Onlineveranstaltung
DTSTART;TZID=Europe/Berlin:20221201T090000
DTEND;TZID=Europe/Berlin:20221201T130000
DTSTAMP:20260420T070246Z
UID:fafd23352443454cb3f3ce95576c0c72@www.uni-marburg.de
RRULE:FREQ=DAILY;COUNT=2
ATTENDEE;CN="Dr. Alexandra Franzke";ROLE=REQ-PARTICIPANT:Dr. Alexandra Fra
 nzke
ATTENDEE;CN=www.erkenntnis-jetzt.de;ROLE=REQ-PARTICIPANT:www.erkenntnis-je
 tzt.de
CREATED:20181203T210138Z
DESCRIPTION:https://www.uni-marburg.de/de/mara/aktuelles-mara/events/2022/
 postdocprogramm/strategischekarriereplanung\n
LAST-MODIFIED:20221116T160946Z
LOCATION:Online in BBB
URL:https://www.uni-marburg.de/de/mara/aktuelles-mara/events/2022/postdocp
 rogramm/strategischekarriereplanung
END:VEVENT
BEGIN:VTIMEZONE
TZID:Europe/Berlin
X-LIC-LOCATION:Europe/Berlin
BEGIN:STANDARD
DTSTART:20221030T020000
TZNAME:CET
TZOFFSETFROM:+0200
TZOFFSETTO:+0100
END:STANDARD
END:VTIMEZONE
END:VCALENDAR
