BEGIN:VCALENDAR
VERSION:2.0
PRODID:-//Plone.org//NONSGML plone.app.event//EN
X-WR-TIMEZONE:Europe/Berlin
BEGIN:VEVENT
SUMMARY:Keynote Lecture "Archives of Decolonization: Problems and Possibil
 ities" by Jordanna Bailkin (University of Washington)
DTSTART;TZID=Europe/Berlin:20220406T180000
DTSTAMP:20260425T203134Z
UID:eb8f8f21003e4dad9900e5c90e76a013@www.uni-marburg.de
ATTENDEE;CN="Jordanna Bailkin (University of Washington)";ROLE=REQ-PARTICI
 PANT:Jordanna Bailkin (University of Washington)
CREATED:20220325T102828Z
DESCRIPTION:https://www.uni-marburg.de/de/mara/aktuelles-mara/events/2022/
 programm-geschaeftsfuehrungsbereich/keynote-lecture-archives-of-decoloniza
 tion-problems-and-possibilities-by-jordanna-bailkin-university-of-washingt
 on\nThe lecture is the kick-off event for the International Workshop "Sour
 ces of Decolonization: Interdisciplinary Approaches toward the Ends of Emp
 ires" organized by Lena Jur and Stephen Foose at the Department of Modern 
 History\, University of Marburg.
LAST-MODIFIED:20220325T121923Z
LOCATION:Online
URL:https://www.uni-marburg.de/de/mara/aktuelles-mara/events/2022/programm
 -geschaeftsfuehrungsbereich/keynote-lecture-archives-of-decolonization-pro
 blems-and-possibilities-by-jordanna-bailkin-university-of-washington
END:VEVENT
BEGIN:VTIMEZONE
TZID:Europe/Berlin
X-LIC-LOCATION:Europe/Berlin
BEGIN:DAYLIGHT
DTSTART:20220327T030000
TZNAME:CEST
TZOFFSETFROM:+0100
TZOFFSETTO:+0200
END:DAYLIGHT
END:VTIMEZONE
END:VCALENDAR
