BEGIN:VCALENDAR
VERSION:2.0
PRODID:-//Plone.org//NONSGML plone.app.event//EN
X-WR-TIMEZONE:Europe/Berlin
BEGIN:VEVENT
SUMMARY:Academic Posters – Concept\, Design and Presentation – Online 
 Course
DTSTART;TZID=Europe/Berlin:20220427T090000
DTEND;TZID=Europe/Berlin:20220427T160000
DTSTAMP:20260421T231355Z
UID:2dd9e52162d242ef910b80b909392cca@www.uni-marburg.de
RRULE:FREQ=DAILY;COUNT=1
RDATE;TZID=Europe/Berlin:20220504T090000
ATTENDEE;CN="Birgit Lukowski";ROLE=REQ-PARTICIPANT:Birgit Lukowski
ATTENDEE;CN="https://designspace.suedstern-grafik.de";ROLE=REQ-PARTICIPANT
 :https://designspace.suedstern-grafik.de
CREATED:20211125T113124Z
DESCRIPTION:https://www.uni-marburg.de/de/mara/aktuelles-mara/events/2022/
 programm-lebens-und-naturwissenschaften/academic-posters\n
LAST-MODIFIED:20211202T114412Z
LOCATION:Online
URL:https://www.uni-marburg.de/de/mara/aktuelles-mara/events/2022/programm
 -lebens-und-naturwissenschaften/academic-posters
END:VEVENT
BEGIN:VTIMEZONE
TZID:Europe/Berlin
X-LIC-LOCATION:Europe/Berlin
BEGIN:DAYLIGHT
DTSTART:20220327T030000
TZNAME:CEST
TZOFFSETFROM:+0100
TZOFFSETTO:+0200
END:DAYLIGHT
END:VTIMEZONE
END:VCALENDAR
