BEGIN:VCALENDAR
VERSION:2.0
PRODID:-//Plone.org//NONSGML plone.app.event//EN
X-WR-TIMEZONE:Europe/Berlin
BEGIN:VEVENT
SUMMARY:Data Analytics in R – Advanced Topics – Online Course
DTSTART;TZID=Europe/Berlin:20220910T090000
DTEND;TZID=Europe/Berlin:20220910T170000
DTSTAMP:20260420T233411Z
UID:311c8e868ae949c48ea20df56a2acca9@www.uni-marburg.de
ATTENDEE;CN="Dr. Daniel Lee";ROLE=REQ-PARTICIPANT:Dr. Daniel Lee
CREATED:20201202T131151Z
DESCRIPTION:https://www.uni-marburg.de/de/mara/aktuelles-mara/events/2022/
 programm-lebens-und-naturwissenschaften/data-analytics-in-r\n
LAST-MODIFIED:20220406T074125Z
LOCATION:Online
URL:https://www.uni-marburg.de/de/mara/aktuelles-mara/events/2022/programm
 -lebens-und-naturwissenschaften/data-analytics-in-r
END:VEVENT
BEGIN:VTIMEZONE
TZID:Europe/Berlin
X-LIC-LOCATION:Europe/Berlin
BEGIN:DAYLIGHT
DTSTART:20220327T030000
TZNAME:CEST
TZOFFSETFROM:+0100
TZOFFSETTO:+0200
END:DAYLIGHT
END:VTIMEZONE
END:VCALENDAR
