BEGIN:VCALENDAR
VERSION:2.0
PRODID:-//Plone.org//NONSGML plone.app.event//EN
X-WR-TIMEZONE:Europe/Berlin
BEGIN:VEVENT
SUMMARY:How to Design Scientific Figures – Online Course
DTSTART;VALUE=DATE:20221103
DTEND;VALUE=DATE:20221104
DTSTAMP:20260424T074915Z
UID:367298d14e484dc89821e047d78d2429@www.uni-marburg.de
RRULE:FREQ=DAILY;COUNT=1
RDATE:20221104
ATTENDEE;CN="Dr. Susanne Berger ";ROLE=REQ-PARTICIPANT:Dr. Susanne Berger 
ATTENDEE;CN=www.graphical-abstracts.com;ROLE=REQ-PARTICIPANT:www.graphical
 -abstracts.com
CREATED:20181130T095409Z
DESCRIPTION:https://www.uni-marburg.de/de/mara/aktuelles-mara/events/2022/
 programm-lebens-und-naturwissenschaften/design_scientific_figures\n
LAST-MODIFIED:20220506T070548Z
LOCATION:Online
URL:https://www.uni-marburg.de/de/mara/aktuelles-mara/events/2022/programm
 -lebens-und-naturwissenschaften/design_scientific_figures
END:VEVENT
END:VCALENDAR
