BEGIN:VCALENDAR
VERSION:2.0
PRODID:-//Plone.org//NONSGML plone.app.event//EN
X-WR-TIMEZONE:Europe/Berlin
BEGIN:VEVENT
SUMMARY:Einführung in das Forschungsdatenmanagement – Haben Sie Ihre Da
 tenflut im Griff? – Online-Kurs
DTSTART;TZID=Europe/Berlin:20220309T090000
DTEND;TZID=Europe/Berlin:20220309T130000
DTSTAMP:20260424T224123Z
UID:c2bffba193324187849f255b3161b63f@www.uni-marburg.de
ATTENDEE;CN="Dr. Esther Krähwinkel";ROLE=REQ-PARTICIPANT:Dr. Esther Kräh
 winkel
ATTENDEE;CN="Dr. Birte Cordes";ROLE=REQ-PARTICIPANT:Dr. Birte Cordes
ATTENDEE;CN=www.uni-marburg.de/eresearch;ROLE=REQ-PARTICIPANT:www.uni-marb
 urg.de/eresearch
CREATED:20210414T125521Z
DESCRIPTION:https://www.uni-marburg.de/de/mara/aktuelles-mara/events/2022/
 programm-lebens-und-naturwissenschaften/einfuehrung-in-das-forschungsdaten
 management\n
LAST-MODIFIED:20211201T103139Z
LOCATION:Online
URL:https://www.uni-marburg.de/de/mara/aktuelles-mara/events/2022/programm
 -lebens-und-naturwissenschaften/einfuehrung-in-das-forschungsdatenmanageme
 nt
END:VEVENT
BEGIN:VTIMEZONE
TZID:Europe/Berlin
X-LIC-LOCATION:Europe/Berlin
BEGIN:STANDARD
DTSTART:20211031T020000
TZNAME:CET
TZOFFSETFROM:+0200
TZOFFSETTO:+0100
END:STANDARD
END:VTIMEZONE
END:VCALENDAR
