BEGIN:VCALENDAR
VERSION:2.0
PRODID:-//Plone.org//NONSGML plone.app.event//EN
X-WR-TIMEZONE:Europe/Berlin
BEGIN:VEVENT
SUMMARY:Get That Job After Your Doctorate! – Applying & Interviewing for
  Positions in Industry and Research – Online Course
DTSTART;TZID=Europe/Berlin:20220223T090000
DTEND;TZID=Europe/Berlin:20220223T170000
DTSTAMP:20260424T180014Z
UID:8ade845bce4341f4964987cb3611cdae@www.uni-marburg.de
ATTENDEE;CN="Andrew Cerniski";ROLE=REQ-PARTICIPANT:Andrew Cerniski
ATTENDEE;CN=www.english-inc.de;ROLE=REQ-PARTICIPANT:www.english-inc.de
CREATED:20201202T152216Z
DESCRIPTION:https://www.uni-marburg.de/de/mara/aktuelles-mara/events/2022/
 programm-lebens-und-naturwissenschaften/get-that-job\n
LAST-MODIFIED:20211203T091354Z
LOCATION:Online
URL:https://www.uni-marburg.de/de/mara/aktuelles-mara/events/2022/programm
 -lebens-und-naturwissenschaften/get-that-job
END:VEVENT
BEGIN:VTIMEZONE
TZID:Europe/Berlin
X-LIC-LOCATION:Europe/Berlin
BEGIN:STANDARD
DTSTART:20211031T020000
TZNAME:CET
TZOFFSETFROM:+0200
TZOFFSETTO:+0100
END:STANDARD
END:VTIMEZONE
END:VCALENDAR
