BEGIN:VCALENDAR
VERSION:2.0
PRODID:-//Plone.org//NONSGML plone.app.event//EN
X-WR-TIMEZONE:Europe/Berlin
BEGIN:VEVENT
SUMMARY:GMP-Aufbaukurs – Online-Kurs
DTSTART;TZID=Europe/Berlin:20220304T090000
DTEND;TZID=Europe/Berlin:20220304T170000
DTSTAMP:20260425T002021Z
UID:40d988a4d9a7470dbba7e5bcf1a83797@www.uni-marburg.de
ATTENDEE;CN="Dr. Heinrich Prinz (PDM-Consulting)";ROLE=REQ-PARTICIPANT:Dr.
  Heinrich Prinz (PDM-Consulting)
ATTENDEE;CN="Dr. Christoph Prinz (Head of Quality Assurance GMP & Qualifie
 d Person der Firma ^'BioNTech SE^')";ROLE=REQ-PARTICIPANT:Dr. Christoph Pr
 inz (Head of Quality Assurance GMP & Qualified Person der Firma "BioNTech 
 SE")
CREATED:20210629T124011Z
DESCRIPTION:https://www.uni-marburg.de/de/mara/aktuelles-mara/events/2022/
 programm-lebens-und-naturwissenschaften/gmp-aufbaukurs\n
LAST-MODIFIED:20211201T103139Z
LOCATION:Online
URL:https://www.uni-marburg.de/de/mara/aktuelles-mara/events/2022/programm
 -lebens-und-naturwissenschaften/gmp-aufbaukurs
END:VEVENT
BEGIN:VTIMEZONE
TZID:Europe/Berlin
X-LIC-LOCATION:Europe/Berlin
BEGIN:STANDARD
DTSTART:20211031T020000
TZNAME:CET
TZOFFSETFROM:+0200
TZOFFSETTO:+0100
END:STANDARD
END:VTIMEZONE
END:VCALENDAR
