BEGIN:VCALENDAR
VERSION:2.0
PRODID:-//Plone.org//NONSGML plone.app.event//EN
X-WR-TIMEZONE:Europe/Berlin
BEGIN:VEVENT
SUMMARY:GMP\, GLP und GCP – Grundlagen und erweiterte Anforderungen in d
 er pharmazeutischen Industrie
DTSTART;TZID=Europe/Berlin:20220929T090000
DTEND;TZID=Europe/Berlin:20220929T170000
DTSTAMP:20260424T205204Z
UID:790c9cbf753948fc9e286a2a660777ba@www.uni-marburg.de
RRULE:FREQ=DAILY;COUNT=1
RDATE;TZID=Europe/Berlin:20220930T090000
ATTENDEE;CN="Dr. Heinrich Prinz ";ROLE=REQ-PARTICIPANT:Dr. Heinrich Prinz 
ATTENDEE;CN="Dr. Christoph Prinz ";ROLE=REQ-PARTICIPANT:Dr. Christoph Prin
 z 
CREATED:20201202T142654Z
DESCRIPTION:https://www.uni-marburg.de/de/mara/aktuelles-mara/events/2022/
 programm-lebens-und-naturwissenschaften/gmp-glp-und-gcp-1\n
LAST-MODIFIED:20220523T082519Z
LOCATION:Philipps-Universität Marburg\, DSA | Forschungszentrum Deutscher
  Sprachatlas\, Pilgrimstein 16\, Seminarraum 01.102
URL:https://www.uni-marburg.de/de/mara/aktuelles-mara/events/2022/programm
 -lebens-und-naturwissenschaften/gmp-glp-und-gcp-1
END:VEVENT
BEGIN:VTIMEZONE
TZID:Europe/Berlin
X-LIC-LOCATION:Europe/Berlin
BEGIN:DAYLIGHT
DTSTART:20220327T030000
TZNAME:CEST
TZOFFSETFROM:+0100
TZOFFSETTO:+0200
END:DAYLIGHT
END:VTIMEZONE
END:VCALENDAR
