BEGIN:VCALENDAR
VERSION:2.0
PRODID:-//Plone.org//NONSGML plone.app.event//EN
X-WR-TIMEZONE:Europe/Berlin
BEGIN:VEVENT
SUMMARY:GMP\, GLP und GCP – Grundlagen und erweiterte Anforderungen in d
 er pharmazeutischen Industrie
DTSTART;TZID=Europe/Berlin:20220707T090000
DTEND;TZID=Europe/Berlin:20220707T170000
DTSTAMP:20260424T183623Z
UID:19323518fd9a4740979ee5b8df1bbc5c@www.uni-marburg.de
RRULE:FREQ=DAILY;COUNT=1
RDATE;TZID=Europe/Berlin:20220708T090000
ATTENDEE;CN="Dr. Heinrich Prinz (PDM-Consulting) ";ROLE=REQ-PARTICIPANT:Dr
 . Heinrich Prinz (PDM-Consulting) 
ATTENDEE;CN="Dr. Christoph Prinz (Head of Quality Assurance GMP & Qualifie
 d Person der Firma ^'BioNTech SE^')";ROLE=REQ-PARTICIPANT:Dr. Christoph Pr
 inz (Head of Quality Assurance GMP & Qualified Person der Firma "BioNTech 
 SE")
CREATED:20201202T142654Z
DESCRIPTION:https://www.uni-marburg.de/de/mara/aktuelles-mara/events/2022/
 programm-lebens-und-naturwissenschaften/gmp-glp-und-gcp\n
LAST-MODIFIED:20220517T093007Z
LOCATION:Philipps-Universität Marburg\, MARA\, F|05\, Deutschhausstraße 
 11+13\, Seminarraum 01.0010
URL:https://www.uni-marburg.de/de/mara/aktuelles-mara/events/2022/programm
 -lebens-und-naturwissenschaften/gmp-glp-und-gcp
END:VEVENT
BEGIN:VTIMEZONE
TZID:Europe/Berlin
X-LIC-LOCATION:Europe/Berlin
BEGIN:DAYLIGHT
DTSTART:20220327T030000
TZNAME:CEST
TZOFFSETFROM:+0100
TZOFFSETTO:+0200
END:DAYLIGHT
END:VTIMEZONE
END:VCALENDAR
