BEGIN:VCALENDAR
VERSION:2.0
PRODID:-//Plone.org//NONSGML plone.app.event//EN
X-WR-TIMEZONE:Europe/Berlin
BEGIN:VEVENT
SUMMARY:Good Scientific Practice – Protecting Scientific Integrity – O
 nline Course
DTSTART;TZID=Europe/Berlin:20220518T091500
DTEND;TZID=Europe/Berlin:20220518T160000
DTSTAMP:20260424T054751Z
UID:7d35c2914f5342a887c954bbcc55b464@www.uni-marburg.de
RRULE:FREQ=DAILY;COUNT=1
RDATE;TZID=Europe/Berlin:20220519T091500
ATTENDEE;CN="Dr. Michael Gommel";ROLE=REQ-PARTICIPANT:Dr. Michael Gommel
ATTENDEE;CN=www.scientificintegrity.de;ROLE=REQ-PARTICIPANT:www.scientific
 integrity.de
CREATED:20201203T085747Z
DESCRIPTION:https://www.uni-marburg.de/de/mara/aktuelles-mara/events/2022/
 programm-lebens-und-naturwissenschaften/good-scientific-practice\n
LAST-MODIFIED:20211202T114858Z
LOCATION:Online
URL:https://www.uni-marburg.de/de/mara/aktuelles-mara/events/2022/programm
 -lebens-und-naturwissenschaften/good-scientific-practice
END:VEVENT
BEGIN:VTIMEZONE
TZID:Europe/Berlin
X-LIC-LOCATION:Europe/Berlin
BEGIN:DAYLIGHT
DTSTART:20220327T030000
TZNAME:CEST
TZOFFSETFROM:+0100
TZOFFSETTO:+0200
END:DAYLIGHT
END:VTIMEZONE
END:VCALENDAR
