BEGIN:VCALENDAR
VERSION:2.0
PRODID:-//Plone.org//NONSGML plone.app.event//EN
X-WR-TIMEZONE:Europe/Berlin
BEGIN:VEVENT
SUMMARY:Heureka! – Kreativitätstechniken für Promovierende und Postdoc
 s
DTSTART;TZID=Europe/Berlin:20220705T100000
DTEND;TZID=Europe/Berlin:20220705T170000
DTSTAMP:20260425T132333Z
UID:7c87e2f793a14871b4b3bd741f200152@www.uni-marburg.de
RRULE:FREQ=DAILY;COUNT=1
RDATE;TZID=Europe/Berlin:20220706T100000
ATTENDEE;CN="Dr.-Ing. Steffi Beckhaus";ROLE=REQ-PARTICIPANT:Dr.-Ing. Steff
 i Beckhaus
CREATED:20220331T080223Z
DESCRIPTION:https://www.uni-marburg.de/de/mara/aktuelles-mara/events/2022/
 programm-lebens-und-naturwissenschaften/heureka-kreativitaetstechniken\n
LAST-MODIFIED:20220406T074348Z
LOCATION:Philipps-Universität Marburg\, MARA\, F|05\, Deutschhausstraße 
 11+13\, Seminarraum 01.0010
URL:https://www.uni-marburg.de/de/mara/aktuelles-mara/events/2022/programm
 -lebens-und-naturwissenschaften/heureka-kreativitaetstechniken
END:VEVENT
BEGIN:VTIMEZONE
TZID:Europe/Berlin
X-LIC-LOCATION:Europe/Berlin
BEGIN:DAYLIGHT
DTSTART:20220327T030000
TZNAME:CEST
TZOFFSETFROM:+0100
TZOFFSETTO:+0200
END:DAYLIGHT
END:VTIMEZONE
END:VCALENDAR
