BEGIN:VCALENDAR
VERSION:2.0
PRODID:-//Plone.org//NONSGML plone.app.event//EN
X-WR-TIMEZONE:Europe/Berlin
BEGIN:VEVENT
SUMMARY:LaTeX für wissenschaftliche Arbeiten
DTSTART;TZID=Europe/Berlin:20220506T093000
DTEND;TZID=Europe/Berlin:20220506T173000
DTSTAMP:20260421T230938Z
UID:4a78b00b3be0491396f29811aa916206@www.uni-marburg.de
ATTENDEE;CN="Dr. Matthias Warkus";ROLE=REQ-PARTICIPANT:Dr. Matthias Warkus
ATTENDEE;CN=www.matthias-warkus.de;ROLE=REQ-PARTICIPANT:www.matthias-warku
 s.de
CREATED:20181129T104435Z
DESCRIPTION:https://www.uni-marburg.de/de/mara/aktuelles-mara/events/2022/
 programm-lebens-und-naturwissenschaften/latex\n
LAST-MODIFIED:20220504T081326Z
LOCATION:Philipps-Universität Marburg\, Forschungszentrum Deutscher Sprac
 hatlas\, Pilgrimstein 16\, Raum 103
URL:https://www.uni-marburg.de/de/mara/aktuelles-mara/events/2022/programm
 -lebens-und-naturwissenschaften/latex
END:VEVENT
BEGIN:VTIMEZONE
TZID:Europe/Berlin
X-LIC-LOCATION:Europe/Berlin
BEGIN:DAYLIGHT
DTSTART:20220327T030000
TZNAME:CEST
TZOFFSETFROM:+0100
TZOFFSETTO:+0200
END:DAYLIGHT
END:VTIMEZONE
END:VCALENDAR
