BEGIN:VCALENDAR
VERSION:2.0
PRODID:-//Plone.org//NONSGML plone.app.event//EN
X-WR-TIMEZONE:Europe/Berlin
BEGIN:VEVENT
SUMMARY:Presenting at Conferences
DTSTART;TZID=Europe/Berlin:20220624T090000
DTEND;TZID=Europe/Berlin:20220624T170000
DTSTAMP:20260421T181614Z
UID:cfd983a990ca412da64a74514edca907@www.uni-marburg.de
RRULE:FREQ=DAILY;COUNT=1
RDATE;TZID=Europe/Berlin:20220625T090000
ATTENDEE;CN="Dr. Constanze Armbrecht";ROLE=REQ-PARTICIPANT:Dr. Constanze A
 rmbrecht
CREATED:20211125T124108Z
DESCRIPTION:https://www.uni-marburg.de/de/mara/aktuelles-mara/events/2022/
 programm-lebens-und-naturwissenschaften/presenting-at-conferences\n
LAST-MODIFIED:20220330T081858Z
LOCATION:Philipps-Universität Marburg\, MARA\, F|05\, Deutschhausstraße 
 11+13\, Seminar room 01.0010
URL:https://www.uni-marburg.de/de/mara/aktuelles-mara/events/2022/programm
 -lebens-und-naturwissenschaften/presenting-at-conferences
END:VEVENT
BEGIN:VTIMEZONE
TZID:Europe/Berlin
X-LIC-LOCATION:Europe/Berlin
BEGIN:DAYLIGHT
DTSTART:20220327T030000
TZNAME:CEST
TZOFFSETFROM:+0100
TZOFFSETTO:+0200
END:DAYLIGHT
END:VTIMEZONE
END:VCALENDAR
