BEGIN:VCALENDAR
VERSION:2.0
PRODID:-//Plone.org//NONSGML plone.app.event//EN
X-WR-TIMEZONE:Europe/Berlin
BEGIN:VEVENT
SUMMARY:Introduction to Project Management – Online Course
DTSTART;TZID=Europe/Berlin:20220412T090000
DTEND;TZID=Europe/Berlin:20220412T170000
DTSTAMP:20260421T133338Z
UID:d8886456d76543b7ba8199c610c46f96@www.uni-marburg.de
RRULE:FREQ=DAILY;COUNT=1
RDATE;TZID=Europe/Berlin:20220413T090000
ATTENDEE;CN="Dr. Jan Schmidt ";ROLE=REQ-PARTICIPANT:Dr. Jan Schmidt 
ATTENDEE;CN=www.janschmidt-training.de;ROLE=REQ-PARTICIPANT:www.janschmidt
 -training.de
CREATED:20181130T095808Z
DESCRIPTION:https://www.uni-marburg.de/de/mara/aktuelles-mara/events/2022/
 programm-lebens-und-naturwissenschaften/project-management\n
LAST-MODIFIED:20220125T114114Z
LOCATION:Online
URL:https://www.uni-marburg.de/de/mara/aktuelles-mara/events/2022/programm
 -lebens-und-naturwissenschaften/project-management
END:VEVENT
BEGIN:VTIMEZONE
TZID:Europe/Berlin
X-LIC-LOCATION:Europe/Berlin
BEGIN:DAYLIGHT
DTSTART:20220327T030000
TZNAME:CEST
TZOFFSETFROM:+0100
TZOFFSETTO:+0200
END:DAYLIGHT
END:VTIMEZONE
END:VCALENDAR
