BEGIN:VCALENDAR
VERSION:2.0
PRODID:-//Plone.org//NONSGML plone.app.event//EN
X-WR-TIMEZONE:Europe/Berlin
BEGIN:VEVENT
SUMMARY:Promotion und dann? – Perspektiven und Impulse für die Karriere
 planung in den Lebens- und Naturwissenschaften – Online-Kurs
DTSTART;TZID=Europe/Berlin:20221025T090000
DTEND;TZID=Europe/Berlin:20221025T170000
DTSTAMP:20260424T174651Z
UID:6188170c1c464bc4880979572b754e14@www.uni-marburg.de
RRULE:FREQ=DAILY;COUNT=1
RDATE;TZID=Europe/Berlin:20221026T090000
ATTENDEE;CN="Dr. Christine Issa";ROLE=REQ-PARTICIPANT:Dr. Christine Issa
CREATED:20181130T095409Z
DESCRIPTION:https://www.uni-marburg.de/de/mara/aktuelles-mara/events/2022/
 programm-lebens-und-naturwissenschaften/promotion-und-dann\n
LAST-MODIFIED:20220506T063422Z
LOCATION:Online
URL:https://www.uni-marburg.de/de/mara/aktuelles-mara/events/2022/programm
 -lebens-und-naturwissenschaften/promotion-und-dann
END:VEVENT
BEGIN:VTIMEZONE
TZID:Europe/Berlin
X-LIC-LOCATION:Europe/Berlin
BEGIN:DAYLIGHT
DTSTART:20220327T030000
TZNAME:CEST
TZOFFSETFROM:+0100
TZOFFSETTO:+0200
END:DAYLIGHT
END:VTIMEZONE
END:VCALENDAR
