BEGIN:VCALENDAR
VERSION:2.0
PRODID:-//Plone.org//NONSGML plone.app.event//EN
X-WR-TIMEZONE:Europe/Berlin
BEGIN:VEVENT
SUMMARY:Erfolgreiche Teamarbeit mit Diversity Kompetenz – Online-Kurs
DTSTART;TZID=Europe/Berlin:20221121T090000
DTEND;TZID=Europe/Berlin:20221121T153000
DTSTAMP:20260421T191919Z
UID:cbe6372ccafa4c14bc7e8ee2527cae28@www.uni-marburg.de
RRULE:FREQ=DAILY;COUNT=1
RDATE;TZID=Europe/Berlin:20221122T090000
ATTENDEE;CN="Dr. Iris Wangermann";ROLE=REQ-PARTICIPANT:Dr. Iris Wangermann
ATTENDEE;CN=www.cultural-awareness.eu;ROLE=REQ-PARTICIPANT:www.cultural-aw
 areness.eu
CREATED:20220817T090924Z
DESCRIPTION:https://www.uni-marburg.de/de/mara/aktuelles-mara/events/2022/
 programm-lebens-und-naturwissenschaften/teamarbeit-mit-diversity-kompetenz
 \n
LAST-MODIFIED:20220818T060819Z
LOCATION:Online
URL:https://www.uni-marburg.de/de/mara/aktuelles-mara/events/2022/programm
 -lebens-und-naturwissenschaften/teamarbeit-mit-diversity-kompetenz
END:VEVENT
BEGIN:VTIMEZONE
TZID:Europe/Berlin
X-LIC-LOCATION:Europe/Berlin
BEGIN:STANDARD
DTSTART:20221030T020000
TZNAME:CET
TZOFFSETFROM:+0200
TZOFFSETTO:+0100
END:STANDARD
END:VTIMEZONE
END:VCALENDAR
