BEGIN:VCALENDAR
VERSION:2.0
PRODID:-//Plone.org//NONSGML plone.app.event//EN
X-WR-TIMEZONE:Europe/Berlin
BEGIN:VEVENT
SUMMARY:Versuchstierkunde – Tierschutzgerechter Umgang mit Labormäusen
DTSTART;TZID=Europe/Berlin:20220329T083000
DTEND;TZID=Europe/Berlin:20220329T170000
DTSTAMP:20260424T040845Z
UID:18f5c63620cc4184954f26f72b173386@www.uni-marburg.de
RRULE:FREQ=DAILY;COUNT=1
RDATE;TZID=Europe/Berlin:20220330T083000
ATTENDEE;CN="Dr. Cornelia Exner";ROLE=REQ-PARTICIPANT:Dr. Cornelia Exner
ATTENDEE;CN="Dr. André Kaminiarz";ROLE=REQ-PARTICIPANT:Dr. André Kaminia
 rz
ATTENDEE;CN="Dr. Hosam Shams-Eldin";ROLE=REQ-PARTICIPANT:Dr. Hosam Shams-E
 ldin
ATTENDEE;CN="Dr. Sabrina Elmshäuser";ROLE=REQ-PARTICIPANT:Dr. Sabrina Elm
 shäuser
CREATED:20200916T115724Z
DESCRIPTION:https://www.uni-marburg.de/de/mara/aktuelles-mara/events/2022/
 programm-lebens-und-naturwissenschaften/versuchstierkunde\n
LAST-MODIFIED:20220125T113652Z
LOCATION:Philipps-Universität Marburg\, Biochemisch-Pharmakologisches Cen
 trum (BPC)\, Praktikumsräume -1/1070 und -1/1060\, Karl-von-Frisch-Straß
 e 2\, 35043 Marburg
URL:https://www.uni-marburg.de/de/mara/aktuelles-mara/events/2022/programm
 -lebens-und-naturwissenschaften/versuchstierkunde
END:VEVENT
BEGIN:VTIMEZONE
TZID:Europe/Berlin
X-LIC-LOCATION:Europe/Berlin
BEGIN:DAYLIGHT
DTSTART:20220327T030000
TZNAME:CEST
TZOFFSETFROM:+0100
TZOFFSETTO:+0200
END:DAYLIGHT
END:VTIMEZONE
END:VCALENDAR
