BEGIN:VCALENDAR
VERSION:2.0
PRODID:-//Plone.org//NONSGML plone.app.event//EN
X-WR-TIMEZONE:Europe/Berlin
BEGIN:VEVENT
SUMMARY:Writing Lab – Scientific Writing for the Life and Natural Scienc
 es
DTSTART;TZID=Europe/Berlin:20220607T100000
DTEND;TZID=Europe/Berlin:20220607T163000
DTSTAMP:20260424T063334Z
UID:5baaff70f81442e6a4e25fe901fd5b32@www.uni-marburg.de
RRULE:FREQ=DAILY;COUNT=1
RDATE;TZID=Europe/Berlin:20220608T100000
ATTENDEE;CN="Prof. Dr. Annette Kolb";ROLE=REQ-PARTICIPANT:Prof. Dr. Annett
 e Kolb
ATTENDEE;CN=www.coachademics.de;ROLE=REQ-PARTICIPANT:www.coachademics.de
CREATED:20201202T140757Z
DESCRIPTION:https://www.uni-marburg.de/de/mara/aktuelles-mara/events/2022/
 programm-lebens-und-naturwissenschaften/wl-scientific-writing\n
LAST-MODIFIED:20220322T090759Z
LOCATION:Philipps-Universität Marburg\, MARA\, F|05\, Deutschhausstraße 
 11+13\, Seminar room 01.0010
URL:https://www.uni-marburg.de/de/mara/aktuelles-mara/events/2022/programm
 -lebens-und-naturwissenschaften/wl-scientific-writing
END:VEVENT
BEGIN:VTIMEZONE
TZID:Europe/Berlin
X-LIC-LOCATION:Europe/Berlin
BEGIN:DAYLIGHT
DTSTART:20220327T030000
TZNAME:CEST
TZOFFSETFROM:+0100
TZOFFSETTO:+0200
END:DAYLIGHT
END:VTIMEZONE
END:VCALENDAR
