BEGIN:VCALENDAR
VERSION:2.0
PRODID:-//Plone.org//NONSGML plone.app.event//EN
X-WR-TIMEZONE:Europe/Berlin
BEGIN:VEVENT
SUMMARY:Writing Lab – Writing Scientific Publications in the Life and Na
 tural Sciences – Online Course
DTSTART;VALUE=DATE:20221013
DTEND;VALUE=DATE:20221014
DTSTAMP:20260424T122836Z
UID:d83c7f537ae4484f8600006c161bda22@www.uni-marburg.de
RRULE:FREQ=DAILY;COUNT=1
RDATE:20221014
ATTENDEE;CN="Dr. Melanie Lynn Conrad";ROLE=REQ-PARTICIPANT:Dr. Melanie Lyn
 n Conrad
CREATED:20201202T140757Z
DESCRIPTION:https://www.uni-marburg.de/de/mara/aktuelles-mara/events/2022/
 programm-lebens-und-naturwissenschaften/writing-scientific-publications\n
LAST-MODIFIED:20220506T062341Z
LOCATION:Online
URL:https://www.uni-marburg.de/de/mara/aktuelles-mara/events/2022/programm
 -lebens-und-naturwissenschaften/writing-scientific-publications
END:VEVENT
END:VCALENDAR
