BEGIN:VCALENDAR
VERSION:2.0
PRODID:-//Plone.org//NONSGML plone.app.event//EN
X-WR-TIMEZONE:Europe/Berlin
BEGIN:VEVENT
SUMMARY:Tag der Wissenschaftler*innen – Internationalisierung der Karrie
 replanung
DTSTART;TZID=Europe/Berlin:20230606T133000
DTEND;TZID=Europe/Berlin:20230606T210000
DTSTAMP:20260424T022320Z
UID:388da810a6ec4c6591ea3dec5165ea9e@www.uni-marburg.de
ATTENDEE;CN=verschiedene;ROLE=REQ-PARTICIPANT:verschiedene
CREATED:20181203T210138Z
DESCRIPTION:https://www.uni-marburg.de/de/mara/aktuelles-mara/events/2023/
 geschaeftsfuehrungsbereich/scientists_day\nVernetzungstag für Promovieren
 de\, Postdocs und Wissenschaftler*innen
LAST-MODIFIED:20230427T103513Z
LOCATION:Veranstaltungssaal der Universitätsbibliothek
URL:https://www.uni-marburg.de/de/mara/aktuelles-mara/events/2023/geschaef
 tsfuehrungsbereich/scientists_day
END:VEVENT
BEGIN:VTIMEZONE
TZID:Europe/Berlin
X-LIC-LOCATION:Europe/Berlin
BEGIN:DAYLIGHT
DTSTART:20230326T030000
TZNAME:CEST
TZOFFSETFROM:+0100
TZOFFSETTO:+0200
END:DAYLIGHT
END:VTIMEZONE
END:VCALENDAR
