BEGIN:VCALENDAR
VERSION:2.0
PRODID:-//Plone.org//NONSGML plone.app.event//EN
X-WR-TIMEZONE:Europe/Berlin
BEGIN:VEVENT
SUMMARY:Workshop "Advanced Statistical Methods (in Linguistics) with R"
DTSTART;TZID=Europe/Berlin:20230710T100000
DTEND;TZID=Europe/Berlin:20230714T160000
DTSTAMP:20260422T223619Z
UID:1f5f6697b2244a6193de815a71ed8550@www.uni-marburg.de
ATTENDEE;CN="Prof. Dr. Stefan Th. Gries";ROLE=REQ-PARTICIPANT:Prof. Dr. St
 efan Th. Gries
CREATED:20230613T113741Z
DESCRIPTION:https://www.uni-marburg.de/de/mara/aktuelles-mara/events/2023/
 geschaeftsfuehrungsbereich/workshop-advanced-statistical-methods-in-lingui
 stics-with-r\nDer Fachbereich Anglistik und Amerikanistik freut sich\, das
 s Prof. Dr. Stefan Th. Gries (UC Santa Barbara und JLU Gießen)\, der inte
 rnational anerkannte\, führende Experte auf dem Gebiet der Statistik für
  die Linguistik mit R\, sich bereit erklärt hat\, in Marburg einen Worksh
 op mit dem Titel "Advanced Statistical Methods (in Linguistics) with R" du
 rchzuführen.
LAST-MODIFIED:20230613T114038Z
LOCATION:Philosophische Fakultät\, Wilhelm-Röpke Straße 6\, D-Turm Raum
  08D05
URL:https://www.uni-marburg.de/de/mara/aktuelles-mara/events/2023/geschaef
 tsfuehrungsbereich/workshop-advanced-statistical-methods-in-linguistics-wi
 th-r
END:VEVENT
BEGIN:VTIMEZONE
TZID:Europe/Berlin
X-LIC-LOCATION:Europe/Berlin
BEGIN:DAYLIGHT
DTSTART:20230326T030000
TZNAME:CEST
TZOFFSETFROM:+0100
TZOFFSETTO:+0200
END:DAYLIGHT
END:VTIMEZONE
END:VCALENDAR
