BEGIN:VCALENDAR
VERSION:2.0
PRODID:-//Plone.org//NONSGML plone.app.event//EN
X-WR-TIMEZONE:Europe/Berlin
BEGIN:VEVENT
SUMMARY:Als Erste/-r in der Familie promovieren – Stärken und Herausfor
 derungen – Online-Kurs
DTSTART;TZID=Europe/Berlin:20231006T090000
DTEND;TZID=Europe/Berlin:20231006T130000
DTSTAMP:20260424T234919Z
UID:7e00eabc13554beba67beb3a6afa698b@www.uni-marburg.de
ATTENDEE;CN="Yvonne Gajer, https://arbeiterkind.de/hessen";ROLE=REQ-PARTIC
 IPANT:Yvonne Gajer, https://arbeiterkind.de/hessen
ATTENDEE;CN=;ROLE=REQ-PARTICIPANT:
ATTENDEE;CN="ArbeiterKind.de ist die größte Community für Studierende d
 er ersten Generation in Deutschland. In Marburg gibt es eine ehrenamtliche
  ArbeiterKind.de-Gruppe, die gerne mit Rat und Tat im Studium oder beim Be
 rufseinstieg zur Seite steht. Außerdem freuen wir uns auch immer über Un
 terstützung! Schau einfach mal beim monatlichen offenen Treffen vorbei:";
 ROLE=REQ-PARTICIPANT:ArbeiterKind.de ist die größte Community für Studi
 erende der ersten Generation in Deutschland. In Marburg gibt es eine ehren
 amtliche ArbeiterKind.de-Gruppe, die gerne mit Rat und Tat im Studium oder
  beim Berufseinstieg zur Seite steht. Außerdem freuen wir uns auch immer 
 über Unterstützung! Schau einfach mal beim monatlichen offenen Treffen v
 orbei:
ATTENDEE;CN=www.marburg.arbeiterkind.de;ROLE=REQ-PARTICIPANT:www.marburg.a
 rbeiterkind.de
CREATED:20191119T114031Z
DESCRIPTION:https://www.uni-marburg.de/de/mara/aktuelles-mara/events/2023/
 programm-geistes-und-sozialwissenschaften/als-erste-r-promovieren\n
LAST-MODIFIED:20230505T085032Z
LOCATION:Online
URL:https://www.uni-marburg.de/de/mara/aktuelles-mara/events/2023/programm
 -geistes-und-sozialwissenschaften/als-erste-r-promovieren
END:VEVENT
BEGIN:VTIMEZONE
TZID:Europe/Berlin
X-LIC-LOCATION:Europe/Berlin
BEGIN:DAYLIGHT
DTSTART:20230326T030000
TZNAME:CEST
TZOFFSETFROM:+0100
TZOFFSETTO:+0200
END:DAYLIGHT
END:VTIMEZONE
END:VCALENDAR
