BEGIN:VCALENDAR
VERSION:2.0
PRODID:-//Plone.org//NONSGML plone.app.event//EN
X-WR-TIMEZONE:Europe/Berlin
BEGIN:VEVENT
SUMMARY:Schreibwerkstatt  – Eine Dissertation Schritt für Schritt schre
 iben – Online-Kurs
DTSTART;TZID=Europe/Berlin:20230706T090000
DTEND;TZID=Europe/Berlin:20230706T170000
DTSTAMP:20260424T144618Z
UID:3b916d594d42417ba5bda8cb86e3714c@www.uni-marburg.de
RRULE:FREQ=DAILY;COUNT=1
RDATE;TZID=Europe/Berlin:20230707T090000
ATTENDEE;CN="Dr. Martha Boeglin";ROLE=REQ-PARTICIPANT:Dr. Martha Boeglin
ATTENDEE;CN=www.scriptoria.org;ROLE=REQ-PARTICIPANT:www.scriptoria.org
CREATED:20191119T114031Z
DESCRIPTION:https://www.uni-marburg.de/de/mara/aktuelles-mara/events/2023/
 programm-geistes-und-sozialwissenschaften/dissertation_schritt-fuer-schrit
 t\n
LAST-MODIFIED:20230111T130131Z
LOCATION:Online
URL:https://www.uni-marburg.de/de/mara/aktuelles-mara/events/2023/programm
 -geistes-und-sozialwissenschaften/dissertation_schritt-fuer-schritt
END:VEVENT
BEGIN:VTIMEZONE
TZID:Europe/Berlin
X-LIC-LOCATION:Europe/Berlin
BEGIN:DAYLIGHT
DTSTART:20230326T030000
TZNAME:CEST
TZOFFSETFROM:+0100
TZOFFSETTO:+0200
END:DAYLIGHT
END:VTIMEZONE
END:VCALENDAR
