BEGIN:VCALENDAR
VERSION:2.0
PRODID:-//Plone.org//NONSGML plone.app.event//EN
X-WR-TIMEZONE:Europe/Berlin
BEGIN:VEVENT
SUMMARY:Einführung in die angewandte Statistik
DTSTART;TZID=Europe/Berlin:20230530T090000
DTEND;TZID=Europe/Berlin:20230530T170000
DTSTAMP:20260424T123850Z
UID:fd8a0a30c0f0427aa0d4b8bee85e776f@www.uni-marburg.de
RRULE:FREQ=DAILY;COUNT=4
EXDATE;TZID=Europe/Berlin:20220921T090000,20220922T090000,20230531T090000,
 20230601T090000,20230602T090000
ATTENDEE;CN="Dr. Johannes Herrmann";ROLE=REQ-PARTICIPANT:Dr. Johannes Herr
 mann
ATTENDEE;CN=www.statistikberatung-giessen.de;ROLE=REQ-PARTICIPANT:www.stat
 istikberatung-giessen.de
CREATED:20210518T135803Z
DESCRIPTION:https://www.uni-marburg.de/de/mara/aktuelles-mara/events/2023/
 programm-geistes-und-sozialwissenschaften/einfuehrung-angewandte-statistik
 \n
LAST-MODIFIED:20221125T081358Z
LOCATION:Philipps-Universität Marburg\, MARA\, F|05\, Deutschhausstraße 
 11+13\, Seminarraum 01.0010
URL:https://www.uni-marburg.de/de/mara/aktuelles-mara/events/2023/programm
 -geistes-und-sozialwissenschaften/einfuehrung-angewandte-statistik
END:VEVENT
BEGIN:VTIMEZONE
TZID:Europe/Berlin
X-LIC-LOCATION:Europe/Berlin
BEGIN:DAYLIGHT
DTSTART:20230326T030000
TZNAME:CEST
TZOFFSETFROM:+0100
TZOFFSETTO:+0200
END:DAYLIGHT
END:VTIMEZONE
END:VCALENDAR
