BEGIN:VCALENDAR
VERSION:2.0
PRODID:-//Plone.org//NONSGML plone.app.event//EN
X-WR-TIMEZONE:Europe/Berlin
BEGIN:VEVENT
SUMMARY:Einführung in SPSS Statistics – Deskriptive Statistiken und Dat
 enmanagement
DTSTART;TZID=Europe/Berlin:20230925T093000
DTEND;TZID=Europe/Berlin:20230925T173000
DTSTAMP:20260424T053621Z
UID:b003429164b548cf9f37ae54dbbb2b31@www.uni-marburg.de
RRULE:FREQ=DAILY;COUNT=2
EXDATE;TZID=Europe/Berlin:20220921T093000,20220922T093000
ATTENDEE;CN="Dr. Frederik Funke";ROLE=REQ-PARTICIPANT:Dr. Frederik Funke
ATTENDEE;CN=www.datenmethoden.de;ROLE=REQ-PARTICIPANT:www.datenmethoden.de
CREATED:20210518T135803Z
DESCRIPTION:https://www.uni-marburg.de/de/mara/aktuelles-mara/events/2023/
 programm-geistes-und-sozialwissenschaften/einfuehrung-in-spss-statistics\n
LAST-MODIFIED:20230208T091533Z
LOCATION:Philipps-Universität Marburg\, Forschungszentrum Deutscher Sprac
 hatlas\, Pilgrimstein 16\, Raum 103
URL:https://www.uni-marburg.de/de/mara/aktuelles-mara/events/2023/programm
 -geistes-und-sozialwissenschaften/einfuehrung-in-spss-statistics
END:VEVENT
BEGIN:VTIMEZONE
TZID:Europe/Berlin
X-LIC-LOCATION:Europe/Berlin
BEGIN:DAYLIGHT
DTSTART:20230326T030000
TZNAME:CEST
TZOFFSETFROM:+0100
TZOFFSETTO:+0200
END:DAYLIGHT
END:VTIMEZONE
END:VCALENDAR
