BEGIN:VCALENDAR
VERSION:2.0
PRODID:-//Plone.org//NONSGML plone.app.event//EN
X-WR-TIMEZONE:Europe/Berlin
BEGIN:VEVENT
SUMMARY:Familie UND wissenschaftliche Karriere meistern – Online-Kurs
DTSTART;TZID=Europe/Berlin:20230320T090000
DTEND;TZID=Europe/Berlin:20230320T160000
DTSTAMP:20260425T041249Z
UID:ad529b62c7cd42d1b1fcf2a460e4a458@www.uni-marburg.de
RRULE:FREQ=DAILY;COUNT=1
RDATE;TZID=Europe/Berlin:20230321T090000
ATTENDEE;CN="Antje Rach";ROLE=REQ-PARTICIPANT:Antje Rach
ATTENDEE;CN=www.worteundwandel.de;ROLE=REQ-PARTICIPANT:www.worteundwandel.
 de
CREATED:20191119T114031Z
DESCRIPTION:https://www.uni-marburg.de/de/mara/aktuelles-mara/events/2023/
 programm-geistes-und-sozialwissenschaften/familie-und-karriere\n
LAST-MODIFIED:20220824T092121Z
LOCATION:Online
URL:https://www.uni-marburg.de/de/mara/aktuelles-mara/events/2023/programm
 -geistes-und-sozialwissenschaften/familie-und-karriere
END:VEVENT
BEGIN:VTIMEZONE
TZID:Europe/Berlin
X-LIC-LOCATION:Europe/Berlin
BEGIN:STANDARD
DTSTART:20221030T020000
TZNAME:CET
TZOFFSETFROM:+0200
TZOFFSETTO:+0100
END:STANDARD
END:VTIMEZONE
END:VCALENDAR
