BEGIN:VCALENDAR
VERSION:2.0
PRODID:-//Plone.org//NONSGML plone.app.event//EN
X-WR-TIMEZONE:Europe/Berlin
BEGIN:VEVENT
SUMMARY:Das Impostor Phänomen in der Wissenschaft – Erfolgreich durch G
 lück oder Kompetenz?
DTSTART;TZID=Europe/Berlin:20231025T090000
DTEND;TZID=Europe/Berlin:20231025T123000
DTSTAMP:20260422T074631Z
UID:b191627f81a2465c91eb5e26aeecc949@www.uni-marburg.de
ATTENDEE;CN="Dr. Simone Freitag";ROLE=REQ-PARTICIPANT:Dr. Simone Freitag
ATTENDEE;CN=www.steinbeis-inre.de;ROLE=REQ-PARTICIPANT:www.steinbeis-inre.
 de
CREATED:20211125T093529Z
DESCRIPTION:https://www.uni-marburg.de/de/mara/aktuelles-mara/events/2023/
 programm-geistes-und-sozialwissenschaften/impostor-phaenomen\n
LAST-MODIFIED:20230309T103217Z
LOCATION:Online
URL:https://www.uni-marburg.de/de/mara/aktuelles-mara/events/2023/programm
 -geistes-und-sozialwissenschaften/impostor-phaenomen
END:VEVENT
BEGIN:VTIMEZONE
TZID:Europe/Berlin
X-LIC-LOCATION:Europe/Berlin
BEGIN:DAYLIGHT
DTSTART:20230326T030000
TZNAME:CEST
TZOFFSETFROM:+0100
TZOFFSETTO:+0200
END:DAYLIGHT
END:VTIMEZONE
END:VCALENDAR
