BEGIN:VCALENDAR
VERSION:2.0
PRODID:-//Plone.org//NONSGML plone.app.event//EN
X-WR-TIMEZONE:Europe/Berlin
BEGIN:VEVENT
SUMMARY:Souverän klären – Kommunizieren in kritischen Gesprächssituat
 ionen – Online-Kurs
DTSTART;TZID=Europe/Berlin:20230330T090000
DTEND;TZID=Europe/Berlin:20230330T170000
DTSTAMP:20260424T045909Z
UID:ade2eabbc8354010a6a05869a92b7947@www.uni-marburg.de
ATTENDEE;CN="Oliver Leibrecht";ROLE=REQ-PARTICIPANT:Oliver Leibrecht
ATTENDEE;CN=www.euton.de;ROLE=REQ-PARTICIPANT:www.euton.de
CREATED:20191119T114031Z
DESCRIPTION:https://www.uni-marburg.de/de/mara/aktuelles-mara/events/2023/
 programm-geistes-und-sozialwissenschaften/souveraen-klaeren\n
LAST-MODIFIED:20221209T100604Z
LOCATION:Online
URL:https://www.uni-marburg.de/de/mara/aktuelles-mara/events/2023/programm
 -geistes-und-sozialwissenschaften/souveraen-klaeren
END:VEVENT
BEGIN:VTIMEZONE
TZID:Europe/Berlin
X-LIC-LOCATION:Europe/Berlin
BEGIN:DAYLIGHT
DTSTART:20230326T030000
TZNAME:CEST
TZOFFSETFROM:+0100
TZOFFSETTO:+0200
END:DAYLIGHT
END:VTIMEZONE
END:VCALENDAR
