BEGIN:VCALENDAR
VERSION:2.0
PRODID:-//Plone.org//NONSGML plone.app.event//EN
X-WR-TIMEZONE:Europe/Berlin
BEGIN:VEVENT
SUMMARY:Schreibwerkstatt – Arbeitstechniken für die wissenschaftliche T
 extproduktion in den Geistes- und Sozialwissenschaften
DTSTART;TZID=Europe/Berlin:20230511T090000
DTEND;TZID=Europe/Berlin:20230511T170000
DTSTAMP:20260421T133640Z
UID:4d6cea90b68b4d6589b90bf3f10fe831@www.uni-marburg.de
ATTENDEE;CN="Dr. Anselm Spindler";ROLE=REQ-PARTICIPANT:Dr. Anselm Spindler
ATTENDEE;CN=www.trainofthought.de;ROLE=REQ-PARTICIPANT:www.trainofthought.
 de
CREATED:20180110T094845Z
DESCRIPTION:https://www.uni-marburg.de/de/mara/aktuelles-mara/events/2023/
 programm-geistes-und-sozialwissenschaften/sw_arbeitstechniken\n
LAST-MODIFIED:20221125T081825Z
LOCATION:Philipps-Universität Marburg\, MARA\, F|05\, Deutschhausstraße 
 11+13\, Seminarraum 01.0010
URL:https://www.uni-marburg.de/de/mara/aktuelles-mara/events/2023/programm
 -geistes-und-sozialwissenschaften/sw_arbeitstechniken
END:VEVENT
BEGIN:VTIMEZONE
TZID:Europe/Berlin
X-LIC-LOCATION:Europe/Berlin
BEGIN:DAYLIGHT
DTSTART:20230326T030000
TZNAME:CEST
TZOFFSETFROM:+0100
TZOFFSETTO:+0200
END:DAYLIGHT
END:VTIMEZONE
END:VCALENDAR
