BEGIN:VCALENDAR
VERSION:2.0
PRODID:-//Plone.org//NONSGML plone.app.event//EN
X-WR-TIMEZONE:Europe/Berlin
BEGIN:VEVENT
SUMMARY:Wie frage ich? – Varianten qualitativer Interviews\, Leitfadenen
 twicklung und Interviewführung – Online-Kurs
DTSTART;TZID=Europe/Berlin:20230206T090000
DTEND;TZID=Europe/Berlin:20230206T153000
DTSTAMP:20260423T150327Z
UID:d3ec9d72a3bb41678d11fbf08721a9f8@www.uni-marburg.de
RRULE:FREQ=DAILY;COUNT=1
RDATE;TZID=Europe/Berlin:20230207T090000
ATTENDEE;CN="Dr. Sarah Weber";ROLE=REQ-PARTICIPANT:Dr. Sarah Weber
ATTENDEE;CN=www.sarah-weber.net;ROLE=REQ-PARTICIPANT:www.sarah-weber.net
CREATED:20191119T114031Z
DESCRIPTION:https://www.uni-marburg.de/de/mara/aktuelles-mara/events/2023/
 programm-geistes-und-sozialwissenschaften/wie-frage-ich\n
LAST-MODIFIED:20220805T072844Z
LOCATION:Online
URL:https://www.uni-marburg.de/de/mara/aktuelles-mara/events/2023/programm
 -geistes-und-sozialwissenschaften/wie-frage-ich
END:VEVENT
BEGIN:VTIMEZONE
TZID:Europe/Berlin
X-LIC-LOCATION:Europe/Berlin
BEGIN:STANDARD
DTSTART:20221030T020000
TZNAME:CET
TZOFFSETFROM:+0200
TZOFFSETTO:+0100
END:STANDARD
END:VTIMEZONE
END:VCALENDAR
