BEGIN:VCALENDAR
VERSION:2.0
PRODID:-//Plone.org//NONSGML plone.app.event//EN
X-WR-TIMEZONE:Europe/Berlin
BEGIN:VEVENT
SUMMARY:BeWerbung – Erfolgreiche Selbst-PR
DTSTART;TZID=Europe/Berlin:20230703T090000
DTEND;TZID=Europe/Berlin:20230703T170000
DTSTAMP:20260423T182333Z
UID:89c91235787b44009e726337fdbf990b@www.uni-marburg.de
ATTENDEE;CN="Johanna Denzel";ROLE=REQ-PARTICIPANT:Johanna Denzel
CREATED:20181130T095409Z
DESCRIPTION:https://www.uni-marburg.de/de/mara/aktuelles-mara/events/2023/
 programm-lebens-und-naturwissenschaften/bewerbung\n
LAST-MODIFIED:20230316T095517Z
LOCATION:Philipps-Universität Marburg MARA F|05\, Deutschhausstraße 11+1
 3 Seminarraum 01.0010
URL:https://www.uni-marburg.de/de/mara/aktuelles-mara/events/2023/programm
 -lebens-und-naturwissenschaften/bewerbung
END:VEVENT
BEGIN:VTIMEZONE
TZID:Europe/Berlin
X-LIC-LOCATION:Europe/Berlin
BEGIN:DAYLIGHT
DTSTART:20230326T030000
TZNAME:CEST
TZOFFSETFROM:+0100
TZOFFSETTO:+0200
END:DAYLIGHT
END:VTIMEZONE
END:VCALENDAR
