BEGIN:VCALENDAR
VERSION:2.0
PRODID:-//Plone.org//NONSGML plone.app.event//EN
X-WR-TIMEZONE:Europe/Berlin
BEGIN:VEVENT
SUMMARY:Forschen mit personenbezogenen Daten – Online-Kurs
DTSTART;TZID=Europe/Berlin:20231212T090000
DTEND;TZID=Europe/Berlin:20231212T113000
DTSTAMP:20260424T170316Z
UID:3024e78b1972409cba25ceed3ef5cd8c@www.uni-marburg.de
ATTENDEE;CN="Nina Raschke";ROLE=REQ-PARTICIPANT:Nina Raschke
ATTENDEE;CN="Lukas Härter";ROLE=REQ-PARTICIPANT:Lukas Härter
CREATED:20210414T125521Z
DESCRIPTION:https://www.uni-marburg.de/de/mara/aktuelles-mara/events/2023/
 programm-lebens-und-naturwissenschaften/forschen-personenbezogene-daten\n
LAST-MODIFIED:20231018T082117Z
LOCATION:Online
URL:https://www.uni-marburg.de/de/mara/aktuelles-mara/events/2023/programm
 -lebens-und-naturwissenschaften/forschen-personenbezogene-daten
END:VEVENT
BEGIN:VTIMEZONE
TZID:Europe/Berlin
X-LIC-LOCATION:Europe/Berlin
BEGIN:STANDARD
DTSTART:20231029T020000
TZNAME:CET
TZOFFSETFROM:+0200
TZOFFSETTO:+0100
END:STANDARD
END:VTIMEZONE
END:VCALENDAR
