BEGIN:VCALENDAR
VERSION:2.0
PRODID:-//Plone.org//NONSGML plone.app.event//EN
X-WR-TIMEZONE:Europe/Berlin
BEGIN:VEVENT
SUMMARY:Promotion und dann? – Perspektiven und Impulse für die Karriere
 planung in den Lebens- und Naturwissenschaften
DTSTART;TZID=Europe/Berlin:20231030T090000
DTEND;TZID=Europe/Berlin:20231030T170000
DTSTAMP:20260424T172405Z
UID:00d61b58f60e47cd93610be6030346ae@www.uni-marburg.de
RRULE:FREQ=DAILY;COUNT=1
RDATE;TZID=Europe/Berlin:20231031T090000
ATTENDEE;CN="Dr. Christine Kohistani";ROLE=REQ-PARTICIPANT:Dr. Christine K
 ohistani
CREATED:20181130T095409Z
DESCRIPTION:https://www.uni-marburg.de/de/mara/aktuelles-mara/events/2023/
 programm-lebens-und-naturwissenschaften/promotion-und-dann\n
LAST-MODIFIED:20230511T064421Z
LOCATION:Philipps-Universität Marburg\, MARA\, F|05\, Deutschhausstraße 
 11+13 Seminarraum 01.0010
URL:https://www.uni-marburg.de/de/mara/aktuelles-mara/events/2023/programm
 -lebens-und-naturwissenschaften/promotion-und-dann
END:VEVENT
BEGIN:VTIMEZONE
TZID:Europe/Berlin
X-LIC-LOCATION:Europe/Berlin
BEGIN:STANDARD
DTSTART:20231029T020000
TZNAME:CET
TZOFFSETFROM:+0200
TZOFFSETTO:+0100
END:STANDARD
END:VTIMEZONE
END:VCALENDAR
