BEGIN:VCALENDAR
VERSION:2.0
PRODID:-//Plone.org//NONSGML plone.app.event//EN
X-WR-TIMEZONE:Europe/Berlin
BEGIN:VEVENT
SUMMARY:Karriereentwicklung für Postdocs – Berufungstraining – Präse
 nzveranstaltung
DTSTART;TZID=Europe/Berlin:20240704T090000
DTEND;TZID=Europe/Berlin:20240704T170000
DTSTAMP:20260423T223915Z
UID:94f3b7a0056f412b87c03610bbb02d3b@www.uni-marburg.de
RRULE:FREQ=DAILY;COUNT=2
ATTENDEE;CN="Dr. Ulrike Preißler";ROLE=REQ-PARTICIPANT:Dr. Ulrike Preißl
 er
ATTENDEE;CN=www.hochschulverband.de;ROLE=REQ-PARTICIPANT:www.hochschulverb
 and.de
CREATED:20181203T210138Z
DESCRIPTION:https://www.uni-marburg.de/de/mara/aktuelles-mara/events/2024/
 postdocprogramm/berufungstraining\nDieser Workshop unterstützt Sie auf Ih
 rem Weg zur eigenen (Tenure Track-)Professur.
LAST-MODIFIED:20240228T084712Z
LOCATION:MARA F|05\, Deutschhausstraße 11+13\, Seminarraum 01.0010
URL:https://www.uni-marburg.de/de/mara/aktuelles-mara/events/2024/postdocp
 rogramm/berufungstraining
END:VEVENT
BEGIN:VTIMEZONE
TZID:Europe/Berlin
X-LIC-LOCATION:Europe/Berlin
BEGIN:DAYLIGHT
DTSTART:20240331T030000
TZNAME:CEST
TZOFFSETFROM:+0100
TZOFFSETTO:+0200
END:DAYLIGHT
END:VTIMEZONE
END:VCALENDAR
